Workbook
Name chuong_pl_1: 'MAU 01'!$A$1
Name chuong_pl_1_name: 'MAU 01'!$A$4
Name chuong_pl_2: 'MAU 02'!$A$1
Name chuong_pl_2_name: 'MAU 02'!$A$4
Name chuong_pl_3: 'MAU 03'!$A$2
Name chuong_pl_3_name: 'MAU 03'!$A$5
Name chuong_pl_4: 'MAU O4'!$A$2
Name chuong_pl_4_name: 'MAU O4'!$A$5

Sheet MAU 01
A1: Mẫu số 01
A2: UBND XÃ KỲ VĂN
A4: Phụ lục 01: TỔNG HỢP ĐỀ XUẤT HỖ TRỢ ĐỐI VỚI CÂY TRỒNG BỊ THIỆT HẠI DO BÃO SỐ 5 VÀ BÃO SỐ 10 NĂM 2025
A6: (Kèm theo Báo cáo số 245 /UBND-KT ngày 21 /9/2026 của UBND xã Kỳ Văn)
A8: T T | B8: Thôn (cũ) | C8: Tổng giá trị thiệt hại | D8: Thiệt hại trên 70% diện tích | O8: Thiệt hại từ 30% đến 70% diện tích | Z8: Kinh phí đề xuất hỗ trợ | AC8: Số quyết đinh hỗ trợ
D9: Diện tích lúa | G9: Diện tích mạ | H9: Cây hàng năm khác | K9: Cây trồng lâu năm | O9: Diện tích lúa | R9: Diện tích mạ | S9: Cây hàng năm khác | V9: Cây trồng lâu năm | Z9: Tổng NSNN hỗ trợ | AA9: Trong đó
D10: Sau gieo trồng từ 01 đến 10 ngày | E10: Sau gieo trồng từ 10 đến 45 ngày | F10: Sau gieo trồng trên 45 ngày | H10: Giai đoạn cây con (gieo trồng đến 1/3 thời gian sinh trưởng) | I10: Giai đoạn cây đang phát triển (trên 1/3 đến 2/3 thời gian sinh trưởng) | J10: Giai đoạn cận thu hoạch (trên 2/3 thời gian sinh trưởng) | K10: Vườn cây ở thời kỳ kiến thiết cơ bản | L10: Vườn cây ở thời kỳ kinh doanh thiệt hại đến năng suất thu hoạch nhưng cây không chết | M10: Vườn cây ở thời kỳ kinh doanh thiệt hại làm chết cây hoặc đánh giá là cây không còn khả năng phục hồi trở lại trạng thái bình thường; vườn cây đầu dòng ở giai đoạn được khai thác vật liệu nhân giống | N10: Cây giống trong giai đoạn vườn ươm được nhân giống từ nguồn vật liệu khai thác từ cây đầu dòng; vườn cây đầu dòng | O10: Sau gieo trồng từ 01 đến 10 ngày | P10: Sau gieo trồng từ 10 đến 45 ngày | Q10: Sau gieo trồng trên 45 ngày | S10: Giai đoạn cây con (gieo trồng đến 1/3 thời gian sinh trưởng) | T10: Giai đoạn cây đang phát triển (trên 1/3 đến 2/3 thời gian sinh trưởng) | U10: Giai đoạn cận thu hoạch (trên 2/3 thời gian sinh trưởng) | V10: Vườn cây ở thời kỳ kiến thiết cơ bản | W10: Vườn cây ở thời kỳ kinh doanh thiệt hại đến năng suất thu hoạch nhưng cây không chết | X10: Vườn cây ở thời kỳ kinh doanh thiệt hại làm chết cây hoặc đánh giá là cây không còn khả năng phục hồi trở lại trạng thái bình thường; vườn cây đầu dòng ở giai đoạn được khai thác vật liệu nhân giống | Y10: Cây giống trong giai đoạn vườn ươm được nhân giống từ nguồn vật liệu khai thác từ cây đầu dòng; vườn cây đầu dòng | AA10: Ngân sách Trung ương | AB10: NSĐP đảm bảo
D11: (ha) | E11: (ha) | F11: (ha) | G11: (ha) | H11: (ha) | I11: (ha) | J11: (ha) | K11: (ha) | L11: (ha) | M11: (ha) | N11: (ha) | O11: (ha) | P11: (ha) | Q11: (ha) | R11: (ha) | S11: (ha) | T11: (ha) | U11: (ha) | V11: (ha) | W11: (ha) | X11: (ha) | Y11: (ha) | Z11: tr.đồng | AA11: tr.đồng | AB11: tr.đồng
A12: A | B12: 1 | C12: 2 | D12: 3 | E12: 4 | F12: 5 | G12: 6 | H12: 7 | I12: 8 | J12: 9 | K12: 10 | L12: 11 | M12: 12 | N12: 13 | O12: 14 | P12: 15 | Q12: 16 | R12: 17 | S12: 18 | T12: 19 | U12: 20 | V12: 21 | W12: 22 | X12: 23 | Y12: 24 | Z12: 25 | AA12: 26 | AB12: 27 | AC12: 28
A13: 1 | B13: Liên Sơn | C13: =Z13*10/3 -> 538.6515 | F13: 0.37172 | H13: 0 | I13: 0.94 | J13: 1.14 | K13: 0.0167 | L13: 0.77134 | M13: 1.06449 | Q13: 12.76251 | S13: 0 | T13: 0.08 | U13: 0.72564 | V13: 0 | W13: 0.39 | X13: 0.6841 | Z13: =F13*10+Q13*5+H13*6+S13*3+I13*10+T13*5+J13*15+U13*7.5+K13*12+V13*6+L13*20+W13*10+M13*30+X13*15+N13*60+Y13*30 -> 161.59545 | AA13: =Z13*80% -> 129.27636 | AB13: =Z13*20% -> 32.31909
A14: 2 | B14: Thanh Sơn | C14: =Z14*10/3 -> 483.34467 | F14: 0 | H14: 0 | I14: 0 | J14: 0 | K14: 0 | L14: 0 | M14: 0 | Q14: 28.5096 | S14: 0 | T14: 0 | U14: 0 | V14: 0.3259 | W14: 0.05 | X14: 0 | Z14: =F14*10+Q14*5+H14*6+S14*3+I14*10+T14*5+J14*15+U14*7.5+K14*12+V14*6+L14*20+W14*10+M14*30+X14*15+N14*60+Y14*30 -> 145.0034 | AA14: =Z14*80% -> 116.00272 | AB14: =Z14*20% -> 29.00068
A15: 3 | B15: Nam Mỹ Lợi | C15: =Z15*10/3 -> 375.00167 | F15: 0.05 | H15: 0 | I15: 0 | J15: 0 | K15: 0.14 | L15: 0 | M15: 0 | Q15: 20.0353 | S15: 0 | T15: 0.2384 | U15: 0 | V15: 1.492 | W15: 0 | X15: 0 | Z15: =F15*10+Q15*5+H15*6+S15*3+I15*10+T15*5+J15*15+U15*7.5+K15*12+V15*6+L15*20+W15*10+M15*30+X15*15+N15*60+Y15*30 -> 112.5005 | AA15: =Z15*80% -> 90.0004 | AB15: =Z15*20% -> 22.5001
A16: 4 | B16: Bắc Sơn | C16: =Z16*10/3 -> 352.01667 | F16: 1.45 | H16: 0.6 | I16: 0.2 | J16: 0.1 | K16: 0.415 | L16: 1.25 | M16: 0.21 | Q16: 5.7 | S16: 0.85 | T16: 1.23 | U16: 0.25 | V16: 0 | W16: 0.85 | X16: 0.01 | Z16: =F16*10+Q16*5+H16*6+S16*3+I16*10+T16*5+J16*15+U16*7.5+K16*12+V16*6+L16*20+W16*10+M16*30+X16*15+N16*60+Y16*30 -> 105.605 | AA16: =Z16*80% -> 84.484 | AB16: =Z16*20% -> 21.121
A17: 5 | B17: Nam Sơn | C17: =Z17*10/3 -> 1120.8833 | F17: 1.14 | H17: 0.25 | I17: 2.44 | J17: 0.1 | K17: 0 | L17: 0.25 | M17: 8.613 | Q17: 0.55 | S17: 0 | T17: 0.4 | U17: 0.75 | V17: 0 | W17: 0 | X17: 1.58 | Z17: =F17*10+Q17*5+H17*6+S17*3+I17*10+T17*5+J17*15+U17*7.5+K17*12+V17*6+L17*20+W17*10+M17*30+X17*15+N17*60+Y17*30 -> 336.265 | AA17: =Z17*80% -> 269.012 | AB17: =Z17*20% -> 67.253
A18: 6 | B18: Sa Xá | C18: =Z18*10/3 -> 369.58167 | F18: 1.5307 | H18: 0.1 | I18: 0.07 | J18: 0.015 | K18: 0 | L18: 0.15 | M18: 0.165 | Q18: 15.3178 | S18: 0.15 | T18: 0.3 | U18: 0.209 | V18: 0.05 | W18: 0.37 | X18: 0.1324 | Z18: =F18*10+Q18*5+H18*6+S18*3+I18*10+T18*5+J18*15+U18*7.5+K18*12+V18*6+L18*20+W18*10+M18*30+X18*15+N18*60+Y18*30 -> 110.8745 | AA18: =Z18*80% -> 88.6996 | AB18: =Z18*20% -> 22.1749
A19: 7 | B19: Nam Xuân | C19: =Z19*10/3 -> 108.7 | F19: 0.02 | H19: 0 | I19: 0 | J19: 0.15 | K19: 0 | L19: 1.243 | M19: 0 | Q19: 0.8 | S19: 0 | T19: 0.1 | U19: 0 | V19: 0 | W19: 0.08 | X19: 0 | Z19: =F19*10+Q19*5+H19*6+S19*3+I19*10+T19*5+J19*15+U19*7.5+K19*12+V19*6+L19*20+W19*10+M19*30+X19*15+N19*60+Y19*30 -> 32.61 | AA19: =Z19*80% -> 26.088 | AB19: =Z19*20% -> 6.522
A20: 8 | B20: Tây Xuân | C20: =Z20*10/3 -> 504.88267 | F20: 0.4415 | H20: 0.5 | I20: 1.1458 | J20: 0.355 | K20: 0.13 | L20: 1.5 | M20: 2.23456 | Q20: 2.1 | S20: 0.35 | T20: 1.657 | U20: 0.54 | V20: 0.0475 | W20: 0.42 | X20: 0.02 | Z20: =F20*10+Q20*5+H20*6+S20*3+I20*10+T20*5+J20*15+U20*7.5+K20*12+V20*6+L20*20+W20*10+M20*30+X20*15+N20*60+Y20*30 -> 151.4648 | AA20: =Z20*80% -> 121.17184 | AB20: =Z20*20% -> 30.29296
A21: 9 | B21: Đông Xuân | C21: =Z21*10/3 -> 2.9166667 | F21: 0 | H21: 0 | I21: 0 | J21: 0 | K21: 0 | L21: 0 | M21: 0 | Q21: 0.175 | S21: 0 | T21: 0 | U21: 0 | V21: 0 | W21: 0 | X21: 0 | Z21: =F21*10+Q21*5+H21*6+S21*3+I21*10+T21*5+J21*15+U21*7.5+K21*12+V21*6+L21*20+W21*10+M21*30+X21*15+N21*60+Y21*30 -> 0.875 | AA21: =Z21*80% -> 0.7 | AB21: =Z21*20% -> 0.175
A22: 10 | B22: Hồng Xuân | C22: =Z22*10/3 -> 310.45 | F22: 0.504 | H22: 0.87 | I22: 2.1 | J22: 0.15 | K22: 0 | L22: 0.85 | M22: 1.01 | Q22: 0.485 | S22: 0.3 | T22: 0.84 | U22: 0.1 | V22: 0.55 | W22: 0 | X22: 0.05 | Z22: =F22*10+Q22*5+H22*6+S22*3+I22*10+T22*5+J22*15+U22*7.5+K22*12+V22*6+L22*20+W22*10+M22*30+X22*15+N22*60+Y22*30 -> 93.135 | AA22: =Z22*80% -> 74.508 | AB22: =Z22*20% -> 18.627
A23: 11 | B23: Trung Xuân | C23: =Z23*10/3 -> 256.07667 | F23: 1.33 | H23: 0 | I23: 0.68 | J23: 0.1 | K23: 0.05 | L23: 0.05 | M23: 0.1 | Q23: 5.989 | S23: 0.3 | T23: 0.72 | U23: 0.2 | V23: 0.06 | W23: 0.3968 | X23: 0.69 | Z23: =F23*10+Q23*5+H23*6+S23*3+I23*10+T23*5+J23*15+U23*7.5+K23*12+V23*6+L23*20+W23*10+M23*30+X23*15+N23*60+Y23*30 -> 76.823 | AA23: =Z23*80% -> 61.4584 | AB23: =Z23*20% -> 15.3646
A24: 12 | B24: Hoà Hợp | C24: =Z24*10/3 -> 988.8022 | F24: 11.465 | H24: 0 | I24: 1.538 | J24: 0 | K24: 3.36113 | L24: 0.3598 | M24: 0.714 | Q24: 12.771 | S24: 0.25 | T24: 0.4581 | U24: 0.45 | V24: 1.2626 | W24: 0.309 | X24: 1.115 | Z24: =F24*10+Q24*5+H24*6+S24*3+I24*10+T24*5+J24*15+U24*7.5+K24*12+V24*6+L24*20+W24*10+M24*30+X24*15+N24*60+Y24*30 -> 296.64066 | AA24: =Z24*80% -> 237.31253 | AB24: =Z24*20% -> 59.328132
... A31: 19 | B31: Đại Đồng | C31: =Z31*10/3 -> 429.24367 | F31: 1.752 | H31: 0.232 | I31: 0.235 | J31: 0.05 | K31: 0.303 | L31: 1.9349 | M31: 0.03 | Q31: 10.6127 | S31: 1.1 | T31: 0.287 | U31: 0.2 | V31: 0.0881 | W31: 0.37 | X31: 0 | Z31: =F31*10+Q31*5+H31*6+S31*3+I31*10+T31*5+J31*15+U31*7.5+K31*12+V31*6+L31*20+W31*10+M31*30+X31*15+N31*60+Y31*30 -> 128.7731 | AA31: =Z31*80% -> 103.01848 | AB31: =Z31*20% -> 25.75462
B32: TỔNG SỐ | C32: =SUM(C13:C31) -> 9386.7636 | D32: =SUM(D13:D31) -> 0 | E32: =SUM(E13:E31) -> 0 | F32: 24.90092 | H32: =SUM(H13:H31) -> 3.289 | I32: =SUM(I13:I31) -> 17.71472 | J32: =SUM(J13:J31) -> 5.32051 | K32: =SUM(K13:K31) -> 5.09045 | L32: =SUM(L13:L31) -> 14.98386 | M32: =SUM(M13:M31) -> 22.62852 | N32: =SUM(N13:N31) -> 0 | O32: =SUM(O13:O31) -> 0 | ... AB32: =SUM(AB13:AB31) -> 563.20582
Z33: ='MAU 02'!N31 -> 63409.617 | AA33: ='MAU 02'!O31 -> 50727.693 | AB33: ='MAU 02'!P31 -> 12681.923
Z34: ='MAU 03'!G25 -> 76.4748 | AA34: ='MAU 03'!H25 -> 61.17984 | AB34: ='MAU 03'!I25 -> 15.29496
S35: ỦY BAN NHÂN DÂN XÃ KỲ VĂN | Z35: ='MAU O4'!S30 -> 282.29 | AA35: ='MAU O4'!T30 -> 225.832 | AB35: ='MAU O4'!U30 -> 56.458
Z36: =SUM(Z32:Z35) -> 66584.41 | AA36: =SUM(AA32:AA35) -> 53267.528 | AB36: =SUM(AB32:AB35) -> 13316.882
Z38: =AB38+'MAU 02'!N32+'MAU 03'!G26+'MAU O4'!S33 -> 118181.89 | AB38: 5832.595
Z39: =Z38-Z36 -> 51597.477 | AB39: =AB38-Z32 -> 3016.5659

Sheet MAU 02
A1: Mẫu số 02
A2: UBND XÃ KỲ VĂN
A4: Phụ lục 02: TỔNG HỢP ĐỀ XUẤT HỖ TRỢ ĐỐI VỚI LÂM NGHIỆP BỊ THIỆT HẠI DO BÃO SỐ 5 VÀ BÃO SỐ 10 NĂM 2025
A6: (Kèm theo Báo cáo số 245 /UBND-KT ngày 21 /9/2026 của UBND xã Kỳ Văn)
A7: TT | B7: Thôn (cũ) | C7: Tổng giá trị thiệt hại | D7: Thiệt hại trên 70% | I7: Thiệt hại từ 30% đến 70% | N7: Kinh phí đề xuất hỗ trợ | Q7: Số quyết đinh hỗ trợ
D8: Diện tích cây rừng, cây lâm sản ngoài gỗ trồng trên đất lâm nghiệp mới trồng đến 1/2 chu kỳ khai thác | E8: Diện tích cây rừng, cây lâm sản ngoài gỗ trồng trên đất lâm nghiệp trên 1/2 chu kỳ khai thác, diện tích rừng trồng gỗ lớn trên 03 năm tuổi | F8: Diện tích vườn giống, rừng giống | G8: Diện tích cây giống được ươm trong giai đoạn vườn ươm | I8: Diện tích cây rừng, cây lâm sản ngoài gỗ trồng trên đất lâm nghiệp mới trồng đến 1/2 chu kỳ khai thác | J8: Diện tích cây rừng, cây lâm sản ngoài gỗ trồng trên đất lâm nghiệp trên 1/2 chu kỳ khai thác, diện tích rừng trồng gỗ lớn trên 03 năm tuổi | K8: Diện tích vườn giống, rừng giống | L8: Diện tích cây giống được ươm trong giai đoạn vườn ươm | N8: Tổng NSNN hỗ trợ | O8: Trong đó
G9: Nhóm cây sinh trưởng nhanh, có thời gian gieo ươm dưới 12 tháng tuổi | H9: Nhóm cây sinh trưởng chậm, có thời gian gieo ươm dưới 12 tháng tuổi | L9: Nhóm cây sinh trưởng nhanh, có thời gian gieo ươm dưới 12 tháng tuổi | M9: Nhóm cây sinh trưởng chậm, có thời gian gieo ươm dưới 12 tháng tuổi | O9: Ngân sách Trung ương | P9: NSĐP đảm bảo
D10: (ha) | E10: (ha) | F10: (ha) | G10: (ha) | H10: (ha) | I10: (ha) | J10: (ha) | K10: (ha) | L10: (ha) | M10: (ha) | N10: tr.đồng | O10: tr.đồng | P10: tr.đồng
A11: A | B11: 1 | C11: 2 | D11: 3 | E11: 4 | F11: 5 | G11: 6 | H11: 7 | I11: 8 | J11: 9 | K11: 10 | L11: 11 | M11: 12 | N11: 13 | O11: 14 | P11: 15 | Q11: 16
A12: 1 | B12: Liên Sơn | C12: =N12*10/3 -> 7070.457 | D12: 23.5713 | E12: 122.36237 | F12: 0 | G12: 0 | H12: 0 | I12: 5.8311 | J12: 9.8409 | K12: 0 | L12: 0 | M12: 0 | N12: =D12*8+I12*4+E12*15+J12*7.5+F12*20+K12*10+G12*40+L12*20+H12*60+M12*30 -> 2121.1371 | O12: =N12*80% -> 1696.9097 | P12: =N12*20% -> 424.22742
A13: 2 | B13: Thanh Sơn | C13: =N13*10/3 -> 32 | D13: 1.2 | E13: 0 | F13: 0 | G13: 0 | H13: 0 | I13: 0 | J13: 0 | K13: 0 | L13: 0 | M13: 0 | N13: =D13*8+I13*4+E13*15+J13*7.5+F13*20+K13*10+G13*40+L13*20+H13*60+M13*30 -> 9.6 | O13: =N13*80% -> 7.68 | P13: =N13*20% -> 1.92
A14: 3 | B14: Nam Mỹ Lợi | C14: =N14*10/3 -> 4739.5775 | D14: 16.8124 | E14: 67.3607 | F14: 0 | G14: 0 | H14: 0 | I14: 43.3777 | J14: 13.7937 | K14: 0 | L14: 0 | M14: 0 | N14: =D14*8+I14*4+E14*15+J14*7.5+F14*20+K14*10+G14*40+L14*20+H14*60+M14*30 -> 1421.8732 | O14: =N14*80% -> 1137.4986 | P14: =N14*20% -> 284.37465
A15: 4 | B15: Bắc Sơn | C15: =N15*10/3 -> 9132.3898 | D15: 91.9029 | E15: 116.8435 | F15: 0 | G15: 0 | H15: 0 | I15: 24.994 | J15: 20.2487 | K15: 0 | L15: 0 | M15: 0 | N15: =D15*8+I15*4+E15*15+J15*7.5+F15*20+K15*10+G15*40+L15*20+H15*60+M15*30 -> 2739.7169 | O15: =N15*80% -> 2191.7736 | P15: =N15*20% -> 547.94339
A16: 5 | B16: Nam Sơn | C16: =N16*10/3 -> 12617.45 | D16: 69.2 | E16: 215.229 | F16: 0 | G16: 0.08 | H16: 0 | I16: 0 | J16: 0 | K16: 0 | L16: 0 | M16: 0 | N16: =D16*8+I16*4+E16*15+J16*7.5+F16*20+K16*10+G16*40+L16*20+H16*60+M16*30 -> 3785.235 | O16: =N16*80% -> 3028.188 | P16: =N16*20% -> 757.047
A17: 6 | B17: Nam Xuân | C17: =N17*10/3 -> 21283.238 | D17: 103.71035 | E17: 330.2339 | F17: 0 | G17: 0 | H17: 0 | I17: 43.6349 | J17: 56.9654 | K17: 0 | L17: 0 | M17: 0 | N17: =D17*8+I17*4+E17*15+J17*7.5+F17*20+K17*10+G17*40+L17*20+H17*60+M17*30 -> 6384.9714 | O17: =N17*80% -> 5107.9771 | P17: =N17*20% -> 1276.9943
A18: 7 | B18: Tây Xuân | C18: =N18*10/3 -> 21172.579 | D18: 98.4092 | E18: 326.9983 | F18: 0 | G18: 0 | H18: 0 | I18: 68.0935 | J18: 51.6202 | K18: 0 | L18: 0 | M18: 0 | N18: =D18*8+I18*4+E18*15+J18*7.5+F18*20+K18*10+G18*40+L18*20+H18*60+M18*30 -> 6351.7736 | O18: =N18*80% -> 5081.4189 | P18: =N18*20% -> 1270.3547
A19: 8 | B19: Đông Xuân | C19: =N19*10/3 -> 31787.1 | D19: 205.96 | E19: 449.66 | F19: 0 | G19: 0 | H19: 0 | I19: 140.2 | J19: 77.7 | K19: 0 | L19: 0 | M19: 0 | N19: =D19*8+I19*4+E19*15+J19*7.5+F19*20+K19*10+G19*40+L19*20+H19*60+M19*30 -> 9536.13 | O19: =N19*80% -> 7628.904 | P19: =N19*20% -> 1907.226
A20: 9 | B20: Hồng Xuân | C20: =N20*10/3 -> 14597.101 | D20: 96.3219 | E20: 220.041 | F20: 0 | G20: 0.1 | H20: 0 | I20: 52.51 | J20: 12.52 | K20: 0 | L20: 0 | M20: 0 | N20: =D20*8+I20*4+E20*15+J20*7.5+F20*20+K20*10+G20*40+L20*20+H20*60+M20*30 -> 4379.1302 | O20: =N20*80% -> 3503.3042 | P20: =N20*20% -> 875.82604
A21: 10 | B21: Trung Xuân | C21: =N21*10/3 -> 13923.348 | D21: 64.783 | E21: 190.0267 | F21: 0 | G21: 0 | H21: 0 | I21: 78.6919 | J21: 65.80963 | K21: 0 | L21: 0 | M21: 0 | N21: =D21*8+I21*4+E21*15+J21*7.5+F21*20+K21*10+G21*40+L21*20+H21*60+M21*30 -> 4177.0043 | O21: =N21*80% -> 3341.6035 | P21: =N21*20% -> 835.40087
A22: 11 | B22: Hoà Hợp | C22: =N22*10/3 -> 2863.1753 | D22: 13.0867 | E22: 34.722 | F22: 0 | G22: 0 | H22: 0 | I22: 3.464 | J22: 29.2764 | K22: 0 | L22: 0 | M22: 0 | N22: =D22*8+I22*4+E22*15+J22*7.5+F22*20+K22*10+G22*40+L22*20+H22*60+M22*30 -> 858.9526 | O22: =N22*80% -> 687.16208 | P22: =N22*20% -> 171.79052
A23: 12 | B23: Bắc Xuân | C23: =N23*10/3 -> 13313.395 | D23: 145.6523 | E23: 148.3 | F23: 0 | G23: 0 | H23: 0 | I23: 44.2 | J23: 57 | K23: 0 | L23: 0 | M23: 0 | N23: =D23*8+I23*4+E23*15+J23*7.5+F23*20+K23*10+G23*40+L23*20+H23*60+M23*30 -> 3994.0184 | O23: =N23*80% -> 3195.2147 | P23: =N23*20% -> 798.80368
... A30: 19 | B30: Đại Đồng | C30: =N30*10/3 -> 836.88833 | D30: 9.942 | E30: 11.4087 | F30: 0 | G30: 0 | H30: 0 | I30: 0.1 | J30: 0 | K30: 0 | L30: 0 | M30: 0 | N30: =D30*8+I30*4+E30*15+J30*7.5+F30*20+K30*10+G30*40+L30*20+H30*60+M30*30 -> 251.0665 | O30: =N30*80% -> 200.8532 | P30: =N30*20% -> 50.2133
B31: TỔNG SỐ | C31: =SUM(C12:C30) -> 211365.39 | D31: =SUM(D12:D30) -> 1318.2848 | E31: =SUM(E12:E30) -> 3098.1059 | F31: =SUM(F12:F30) -> 0 | G31: =SUM(G12:G30) -> 0.18 | H31: =SUM(H12:H30) -> 0 | I31: =SUM(I12:I30) -> 645.09277 | J31: =SUM(J12:J30) -> 507.22386 | ... P31: =SUM(P12:P30) -> 12681.923
N32: 111736.89 | O32: =N32-N31 -> 48327.272
L33: ỦY BAN NHÂN DÂN XÃ KỲ VĂN
D35: =SUM(D32:D34) -> 0 | E35: =D35-G40 -> 0 | F35: =G40/D35 -> #DIV/0!
AB39: 5832.595
AB40: =AB39-Z33 -> 5832.595

Sheet MAU 03
A2: Mẫu số 03
A3: UBND XÃ KỲ VĂN
A5: Phụ lục 03: TỔNG HỢP ĐỀ XUẤT HỖ TRỢ THỦY SẢN (GỒM NUÔI TRỒNG THỦY SẢN, SẢN XUẤT, ƯƠNG DƯỠNG GIỐNG THỦY SẢN) BỊ THIỆT HẠI DO BÃO SỐ 5 VÀ BÃO SỐ 10
A6: (Kèm theo Báo cáo số 245 /UBND-KT ngày 21 /9/2026 của UBND xã Kỳ Văn)
A7: ='MAU 01'!A6:Y6 -> (Kèm theo Báo cáo số 245 /UBND-KT ngày 21 /9/2026 của UBND xã Kỳ Văn)
A8: TT | B8: Thôn (cũ) | C8: Tổng giá trị thiệt hại | D8: Nuôi trồng thuỷ sản bán thâm canh, thâm canh trong ao (đầm/hầm) | E8: Nuôi trồng thuỷ sản trong bể, lồng, bè | F8: Nuôi trồng thuỷ sản theo hình thức khác | G8: Kinh phí đề xuất hỗ trợ | J8: Số quyết đinh hỗ trợ
G9: Tổng NSNN hỗ trợ | H9: Trong đó
H10: Ngân sách Trung ương | I10: NSĐP đảm bảo
C11: tr.đồng | D11: Ha nuôi bị thiệt hại | E11: 100m3 thể tích nuôi bị thiệt hại | F11: Ha diện tích nuôi bị thiệt hại | G11: tr.đồng | H11: tr.đồng | I11: tr.đồng
A12: A | B12: 1 | C12: 2 | D12: 3 | E12: 4 | F12: 5 | G12: 6 | H12: 7 | I12: 8 | J12: 9
A13: 1 | B13: Liên Sơn | C13: =G13*10/3 -> 17.06 | D13: 0 | E13: 0 | F13: 0.3412 | G13: =(D13*60+E13*30+F13*15) -> 5.118 | H13: =G13*80% -> 4.0944 | I13: =G13*20% -> 1.0236
A14: 2 | B14: Nam Mỹ Lợi | C14: =G14*10/3 -> 1.5 | D14: 0 | E14: 0 | F14: 0.03 | G14: =(D14*60+E14*30+F14*15) -> 0.45 | H14: =G14*80% -> 0.36 | I14: =G14*20% -> 0.09
A15: 3 | B15: Bắc Sơn | C15: =G15*10/3 -> 4 | D15: 0 | E15: 0 | F15: 0.08 | G15: =(D15*60+E15*30+F15*15) -> 1.2 | H15: =G15*80% -> 0.96 | I15: =G15*20% -> 0.24
A16: 4 | B16: Nam Sơn | C16: =G16*10/3 -> 5 | D16: 0 | E16: 0 | F16: 0.1 | G16: =(D16*60+E16*30+F16*15) -> 1.5 | H16: =G16*80% -> 1.2 | I16: =G16*20% -> 0.3
A17: 5 | B17: Tây Xuân | C17: =G17*10/3 -> 8 | D17: 0 | E17: 0 | F17: 0.16 | G17: =(D17*60+E17*30+F17*15) -> 2.4 | H17: =G17*80% -> 1.92 | I17: =G17*20% -> 0.48
A18: 6 | B18: Hồng Xuân | C18: =G18*10/3 -> 14.25 | D18: 0 | E18: 0 | F18: 0.285 | G18: =(D18*60+E18*30+F18*15) -> 4.275 | H18: =G18*80% -> 3.42 | I18: =G18*20% -> 0.855
A19: 7 | B19: Hoà Hợp | C19: =G19*10/3 -> 7.5 | D19: 0 | E19: 0 | F19: 0.15 | G19: =(D19*60+E19*30+F19*15) -> 2.25 | H19: =G19*80% -> 1.8 | I19: =G19*20% -> 0.45
A20: 8 | B20: Bắc Xuân | C20: =G20*10/3 -> 10 | D20: 0 | E20: 0 | F20: 0.2 | G20: =(D20*60+E20*30+F20*15) -> 3 | H20: =G20*80% -> 2.4 | I20: =G20*20% -> 0.6
A21: 9 | B21: Đất Đỏ | C21: =G21*10/3 -> 64.5 | D21: 0 | E21: 0 | F21: 1.29 | G21: =(D21*60+E21*30+F21*15) -> 19.35 | H21: =G21*80% -> 15.48 | I21: =G21*20% -> 3.87
A22: 10 | B22: Mỹ Liên | C22: =G22*10/3 -> 26.606 | D22: 0 | E22: 0 | F22: 0.53212 | G22: =(D22*60+E22*30+F22*15) -> 7.9818 | H22: =G22*80% -> 6.38544 | I22: =G22*20% -> 1.59636
A23: 11 | B23: Văn Lạc | C23: =G23*10/3 -> 76.5 | D23: 0 | E23: 0 | F23: 1.53 | G23: =(D23*60+E23*30+F23*15) -> 22.95 | H23: =G23*80% -> 18.36 | I23: =G23*20% -> 4.59
A24: 12 | B24: Đại Đồng | C24: =G24*10/3 -> 20 | D24: 0 | E24: 0 | F24: 0.4 | G24: =(D24*60+E24*30+F24*15) -> 6 | H24: =G24*80% -> 4.8 | I24: =G24*20% -> 1.2
B25: TỔNG SỐ | C25: =SUM(C13:C24) -> 254.916 | D25: =SUM(D13:D24) -> 0 | E25: =SUM(E13:E24) -> 0 | F25: =SUM(F13:F24) -> 5.09832 | G25: =SUM(G13:G24) -> 76.4748 | H25: =SUM(H13:H24) -> 61.17984 | I25: =SUM(I13:I24) -> 15.29496
G26: 262.11 | H26: =G26-G25 -> 185.6352
E27: ỦY BAN NHÂN DÂN XÃ KỲ VĂN

Sheet MAU O4
A2: Mẫu số 04
A3: UBND XÃ KỲ VĂN
A5: Phụ lục 04: TỔNG HỢP ĐỀ XUẤT HỖ TRỢ VẬT NUÔI BỊ THIỆT HẠI DO BÃO SỐ 5 VÀ BÃO 10
A6: (Kèm theo Báo cáo số 245 /UBND-KT ngày 21 /9/2026 của UBND xã Kỳ Văn)
A7: ='MAU 01'!A6:Y6 -> (Kèm theo Báo cáo số 245 /UBND-KT ngày 21 /9/2026 của UBND xã Kỳ Văn)
A8: TT | B8: Thôn (cũ) | C8: Tổng giá trị thiệt hại | D8: Vật nuôi bị thiệt hại (chết, mất tích) | S8: Kinh phí đề xuất hỗ trợ | V8: Số quyết đinh hỗ trợ
D9: Gia cầm (gà, vịt, ngan, ngỗng, bồ câu) | F9: Chim cút | H9: Lợn | J9: Lợn nái và lợn đực đang khai thác | K9: Bê cái hướng sữa đến 6 tháng tuổi | L9: Bò sữa trên 6 tháng tuổi | M9: Trâu, bò thịt, ngựa | O9: Hươu sao, dê, cừu, đà điểu | P9: Thỏ | R9: Ong mật | S9: Tổng NSNN hỗ trợ | T9: Trong đó
D10: Đến 28 ngày tuổi | E10: Trên 28 ngày tuổi | F10: Đến 28 ngày tuổi | G10: Trên 28 ngày tuổi | H10: Đến 28 ngày tuổi | I10: Trên 28 ngày tuổi | M10: Đến 6 tháng tuổi | N10: Trên 6 tháng tuổi | P10: Đến 28 ngày tuổi | Q10: Trên 28 ngày tuổi | T10: Ngân sách Trung ương | U10: NSĐP đảm bảo
C11: tr.đồng | D11: con | E11: con | F11: con | G11: con | H11: con | I11: con | J11: con | K11: con | L11: con | M11: con | N11: con | O11: con | P11: con | Q11: con | R11: đàn | S11: tr.đồng | T11: tr.đồng | U11: tr.đồng
A12: A | B12: 1 | C12: 2 | D12: 3 | E12: 4 | F12: 5 | G12: 6 | H12: 7 | I12: 8 | J12: 9 | K12: 10 | L12: 11 | M12: 12 | N12: 13 | O12: 14 | P12: 15 | Q12: 16 | R12: 17 | S12: 18 | T12: 19 | U12: 20 | V12: 21
A13: 1 | B13: Liên Sơn | C13: =S13*10/3 -> 46.473333 | D13: 27 | E13: 246 | F13: 0 | G13: 0 | H13: 0 | I13: 0 | J13: 0 | K13: 0 | L13: 0 | M13: 0 | N13: 0 | O13: 0 | P13: 0 | Q13: 0 | R13: 10 | S13: =D13*0.022+E13*0.038+F13*0.004+G13*0.008+H13*0.55+I13*1+J13*3+K13*3+L13*8+M13*2.2+N13*5+O13*1.7+P13*0.04+Q13*0.06+R13*0.4 -> 13.942 | T13: =S13*80% -> 11.1536 | U13: =S13*20% -> 2.7884
A14: 2 | B14: Thanh Sơn | C14: =S14*10/3 -> 6.6666667 | D14: 0 | E14: 0 | F14: 0 | G14: 0 | H14: 0 | I14: 0 | J14: 0 | K14: 0 | L14: 0 | M14: 0 | N14: 0 | O14: 0 | P14: 0 | Q14: 0 | R14: 5 | S14: =D14*0.022+E14*0.038+F14*0.004+G14*0.008+H14*0.55+I14*1+J14*3+K14*3+L14*8+M14*2.2+N14*5+O14*1.7+P14*0.04+Q14*0.06+R14*0.4 -> 2 | T14: =S14*80% -> 1.6 | U14: =S14*20% -> 0.4
A15: 3 | B15: Nam Mỹ Lợi | C15: =S15*10/3 -> 16.513333 | D15: 87 | E15: 80 | F15: 0 | G15: 0 | H15: 0 | I15: 0 | J15: 0 | K15: 0 | L15: 0 | M15: 0 | N15: 0 | O15: 0 | P15: 0 | Q15: 0 | R15: 0 | S15: =D15*0.022+E15*0.038+F15*0.004+G15*0.008+H15*0.55+I15*1+J15*3+K15*3+L15*8+M15*2.2+N15*5+O15*1.7+P15*0.04+Q15*0.06+R15*0.4 -> 4.954 | T15: =S15*80% -> 3.9632 | U15: =S15*20% -> 0.9908
A16: 4 | B16: Bắc Sơn | C16: =S16*10/3 -> 42.273333 | D16: 98 | E16: 277 | F16: 0 | G16: 0 | H16: 0 | I16: 0 | J16: 0 | K16: 0 | L16: 0 | M16: 0 | N16: 0 | O16: 0 | P16: 0 | Q16: 0 | R16: 0 | S16: =D16*0.022+E16*0.038+F16*0.004+G16*0.008+H16*0.55+I16*1+J16*3+K16*3+L16*8+M16*2.2+N16*5+O16*1.7+P16*0.04+Q16*0.06+R16*0.4 -> 12.682 | T16: =S16*80% -> 10.1456 | U16: =S16*20% -> 2.5364
A17: 5 | B17: Sa Xá | C17: =S17*10/3 -> 26.153333 | D17: 63 | E17: 170 | F17: 0 | G17: 0 | H17: 0 | I17: 0 | J17: 0 | K17: 0 | L17: 0 | M17: 0 | N17: 0 | O17: 0 | P17: 0 | Q17: 0 | R17: 0 | S17: =D17*0.022+E17*0.038+F17*0.004+G17*0.008+H17*0.55+I17*1+J17*3+K17*3+L17*8+M17*2.2+N17*5+O17*1.7+P17*0.04+Q17*0.06+R17*0.4 -> 7.846 | T17: =S17*80% -> 6.2768 | U17: =S17*20% -> 1.5692
A18: 6 | B18: Nam Xuân | C18: =S18*10/3 -> 91.666667 | D18: 300 | E18: 550 | F18: 0 | G18: 0 | H18: 0 | I18: 0 | J18: 0 | K18: 0 | L18: 0 | M18: 0 | N18: 0 | O18: 0 | P18: 0 | Q18: 0 | R18: 0 | S18: =D18*0.022+E18*0.038+F18*0.004+G18*0.008+H18*0.55+I18*1+J18*3+K18*3+L18*8+M18*2.2+N18*5+O18*1.7+P18*0.04+Q18*0.06+R18*0.4 -> 27.5 | T18: =S18*80% -> 22 | U18: =S18*20% -> 5.5
A19: 7 | B19: Tây Xuân | C19: =S19*10/3 -> 38.993333 | D19: 74 | E19: 265 | F19: 0 | G19: 0 | H19: 0 | I19: 0 | J19: 0 | K19: 0 | L19: 0 | M19: 0 | N19: 0 | O19: 0 | P19: 0 | Q19: 0 | R19: 0 | S19: =D19*0.022+E19*0.038+F19*0.004+G19*0.008+H19*0.55+I19*1+J19*3+K19*3+L19*8+M19*2.2+N19*5+O19*1.7+P19*0.04+Q19*0.06+R19*0.4 -> 11.698 | T19: =S19*80% -> 9.3584 | U19: =S19*20% -> 2.3396
A20: 8 | B20: Hồng Xuân | C20: =S20*10/3 -> 34.4 | D20: 115 | E20: 205 | F20: 0 | G20: 0 | H20: 0 | I20: 0 | J20: 0 | K20: 0 | L20: 0 | M20: 0 | N20: 0 | O20: 0 | P20: 0 | Q20: 0 | R20: 0 | S20: =D20*0.022+E20*0.038+F20*0.004+G20*0.008+H20*0.55+I20*1+J20*3+K20*3+L20*8+M20*2.2+N20*5+O20*1.7+P20*0.04+Q20*0.06+R20*0.4 -> 10.32 | T20: =S20*80% -> 8.256 | U20: =S20*20% -> 2.064
A21: 9 | B21: Trung Xuân | C21: =S21*10/3 -> 229.56667 | D21: 520 | E21: 1505 | F21: 0 | G21: 30 | H21: 0 | I21: 0 | J21: 0 | K21: 0 | L21: 0 | M21: 0 | N21: 0 | O21: 0 | P21: 0 | Q21: 0 | R21: 0 | S21: =D21*0.022+E21*0.038+F21*0.004+G21*0.008+H21*0.55+I21*1+J21*3+K21*3+L21*8+M21*2.2+N21*5+O21*1.7+P21*0.04+Q21*0.06+R21*0.4 -> 68.87 | T21: =S21*80% -> 55.096 | U21: =S21*20% -> 13.774
A22: 10 | B22: Hoà Hợp | C22: =S22*10/3 -> 101.75333 | D22: 23 | E22: 790 | F22: 0 | G22: 0 | H22: 0 | I22: 0 | J22: 0 | K22: 0 | L22: 0 | M22: 0 | N22: 0 | O22: 0 | P22: 0 | Q22: 0 | R22: 0 | S22: =D22*0.022+E22*0.038+F22*0.004+G22*0.008+H22*0.55+I22*1+J22*3+K22*3+L22*8+M22*2.2+N22*5+O22*1.7+P22*0.04+Q22*0.06+R22*0.4 -> 30.526 | T22: =S22*80% -> 24.4208 | U22: =S22*20% -> 6.1052
A23: 11 | B23: Bắc Xuân | C23: =S23*10/3 -> 82.753333 | D23: 308 | E23: 475 | F23: 0 | G23: 0 | H23: 0 | I23: 0 | J23: 0 | K23: 0 | L23: 0 | M23: 0 | N23: 0 | O23: 0 | P23: 0 | Q23: 0 | R23: 0 | S23: =D23*0.022+E23*0.038+F23*0.004+G23*0.008+H23*0.55+I23*1+J23*3+K23*3+L23*8+M23*2.2+N23*5+O23*1.7+P23*0.04+Q23*0.06+R23*0.4 -> 24.826 | T23: =S23*80% -> 19.8608 | U23: =S23*20% -> 4.9652
A24: 12 | B24: Đất Đỏ | C24: =S24*10/3 -> 21.533333 | D24: 0 | E24: 170 | F24: 0 | G24: 0 | H24: 0 | I24: 0 | J24: 0 | K24: 0 | L24: 0 | M24: 0 | N24: 0 | O24: 0 | P24: 0 | Q24: 0 | R24: 0 | S24: =D24*0.022+E24*0.038+F24*0.004+G24*0.008+H24*0.55+I24*1+J24*3+K24*3+L24*8+M24*2.2+N24*5+O24*1.7+P24*0.04+Q24*0.06+R24*0.4 -> 6.46 | T24: =S24*80% -> 5.168 | U24: =S24*20% -> 1.292
... A29: 17 | B29: Đại Đồng | C29: =S29*10/3 -> 38.906667 | D29: 135 | E29: 229 | F29: 0 | G29: 0 | H29: 0 | I29: 0 | J29: 0 | K29: 0 | L29: 0 | M29: 0 | N29: 0 | O29: 0 | P29: 0 | Q29: 0 | R29: 0 | S29: =D29*0.022+E29*0.038+F29*0.004+G29*0.008+H29*0.55+I29*1+J29*3+K29*3+L29*8+M29*2.2+N29*5+O29*1.7+P29*0.04+Q29*0.06+R29*0.4 -> 11.672 | T29: =S29*80% -> 9.3376 | U29: =S29*20% -> 2.3344
B30: TỔNG SỐ | C30: =SUM(C13:C29) -> 940.96667 | D30: =SUM(D13:D29) -> 2616 | E30: =SUM(E13:E29) -> 5671 | F30: =SUM(F13:F29) -> 0 | G30: =SUM(G13:G29) -> 30 | H30: =SUM(H13:H29) -> 0 | I30: =SUM(I13:I29) -> 3 | J30: =SUM(J13:J29) -> 0 | ... U30: =SUM(U13:U29) -> 56.458
O32: ỦY BAN NHÂN DÂN XÃ KỲ VĂN
S33: 350.294
S34: =S33-S30 -> 68.004
S35: =S34+'MAU 03'!H26+'MAU 02'!O32+'MAU 01'!AB39 -> 51597.477
AB39: 5832.595
AB40: =AB39-Z33 -> 5832.595

Sheet MAU 05

Sheet m2 dp
A1: Mẫu số 02
A2: UBND XÃ KỲ VĂN
A4: Phụ lục 02: TỔNG HỢP ĐỀ XUẤT HỖ TRỢ ĐỐI VỚI LÂM NGHIỆP BỊ THIỆT HẠI DO BÃO SỐ 10
A5: ='MAU 01'!A5:X5 -> 0
A6: ='MAU 01'!A6:Y6 -> (Kèm theo Báo cáo số 245 /UBND-KT ngày 21 /9/2026 của UBND xã Kỳ Văn)
A7: TT | B7: Thôn | C7: Tổng giá trị thiệt hại | D7: Tổng giá trị thiệt hại | E7: Thiệt hại trên 70% | J7: Thiệt hại từ 30% đến 70% | O7: Kinh phí đề xuất hỗ trợ | P7: Ghi chú
E8: Diện tích cây rừng, cây lâm sản ngoài gỗ trồng trên đất lâm nghiệp mới trồng đến 1/2 chu kỳ khai thác | F8: Diện tích cây rừng, cây lâm sản ngoài gỗ trồng trên đất lâm nghiệp trên 1/2 chu kỳ khai thác, diện tích rừng trồng gỗ lớn trên 03 năm tuổi | G8: Diện tích vườn giống, rừng giống | H8: Diện tích cây giống được ươm trong giai đoạn vườn ươm | J8: Diện tích cây rừng, cây lâm sản ngoài gỗ trồng trên đất lâm nghiệp mới trồng đến 1/2 chu kỳ khai thác | K8: Diện tích cây rừng, cây lâm sản ngoài gỗ trồng trên đất lâm nghiệp trên 1/2 chu kỳ khai thác, diện tích rừng trồng gỗ lớn trên 03 năm tuổi | L8: Diện tích vườn giống, rừng giống | M8: Diện tích cây giống được ươm trong giai đoạn vườn ươm
H9: Nhóm cây sinh trưởng nhanh, có thời gian gieo ươm dưới 12 tháng tuổi | I9: Nhóm cây sinh trưởng chậm, có thời gian gieo ươm dưới 12 tháng tuổi | M9: Nhóm cây sinh trưởng nhanh, có thời gian gieo ươm dưới 12 tháng tuổi | N9: Nhóm cây sinh trưởng chậm, có thời gian gieo ươm dưới 12 tháng tuổi
D10: tr.đồng | E10: (ha) | F10: (ha) | G10: (ha) | H10: (ha) | I10: (ha) | J10: (ha) | K10: (ha) | L10: (ha) | M10: (ha) | N10: (ha) | O10: tr.đồng
A11: A | B11: 1 | C11: 2 | D11: 2 | E11: 3 | F11: 4 | G11: 5 | H11: 6 | I11: 7 | J11: 8 | K11: 9 | L11: 10 | M11: 11 | N11: 12 | O11: 13 | P11: 14
A12: 1 | B12: Thanh Sơn | C12: =O12*10/3 -> 60 | D12: =((E12*30)+(F12*60)+(G12*200)+(H12*400)+(I12*600))*70%+((J12*30)+(K12*60)+(L12*200)*(M12*400)+(N12*600))*50% -> 50.4 | F12: 1.2 | O12: =E12*8+J12*4+F12*15+K12*7.5+G12*20+L12*10 -> 18
A13: 2 | B13: Sa Xá | C13: =O13*10/3 -> 76.366667 | D13: =((E13*30)+(F13*60)+(G13*200)+(H13*400)+(I13*600))*70%+((J13*30)+(K13*60)+(L13*200)*(M13*400)+(N13*600))*50% -> 66.54 | E13: 0.22 | F13: 1.26 | J13: 0 | K13: 0.3 | O13: =E13*8+J13*4+F13*15+K13*7.5+G13*20+L13*10 -> 22.91
A14: 3 | B14: Hòa Hợp | C14: =O14*10/3 -> 2231.5167 | D14: =((E14*30)+(F14*60)+(G14*200)+(H14*400)+(I14*600))*70%+((J14*30)+(K14*60)+(L14*200)*(M14*400)+(N14*600))*50% -> 1875.51 | E14: 72.81 | J14: 1.4 | K14: 10.85 | O14: =E14*8+J14*4+F14*15+K14*7.5+G14*20+L14*10 -> 669.455
A15: 4 | B15: Nam Mỹ Lợi | C15: =O15*10/3 -> 3552.9663 | D15: =((E15*30)+(F15*60)+(G15*200)+(H15*400)+(I15*600))*70%+((J15*30)+(K15*60)+(L15*200)*(M15*400)+(N15*600))*50% -> 3292.644 | E15: 86.76 | F15: 0.15 | J15: 13.8556 | K15: 41.885 | O15: =E15*8+J15*4+F15*15+K15*7.5+G15*20+L15*10 -> 1065.8899
A16: 5 | B16: Mỹ Liên | C16: =O16*10/3 -> 1662.6667 | D16: =((E16*30)+(F16*60)+(G16*200)+(H16*400)+(I16*600))*70%+((J16*30)+(K16*60)+(L16*200)*(M16*400)+(N16*600))*50% -> 1309.35 | E16: 62.35 | O16: =E16*8+J16*4+F16*15+K16*7.5+G16*20+L16*10 -> 498.8
A17: 6 | B17: Liên Sơn | C17: =O17*10/3 -> 1266.8333 | D17: =((E17*30)+(F17*60)+(G17*200)+(H17*400)+(I17*600))*70%+((J17*30)+(K17*60)+(L17*200)*(M17*400)+(N17*600))*50% -> 1136.55 | E17: 7.4 | F17: 16.7 | J17: 1.65 | K17: 8.5 | O17: =E17*8+J17*4+F17*15+K17*7.5+G17*20+L17*10 -> 380.05
A18: 7 | B18: Văn Lạc | C18: =O18*10/3 -> 2226.6667 | D18: =((E18*30)+(F18*60)+(G18*200)+(H18*400)+(I18*600))*70%+((J18*30)+(K18*60)+(L18*200)*(M18*400)+(N18*600))*50% -> 1883.595 | E18: 58.955 | F18: 7.4 | J18: 6.7 | K18: 7.808 | O18: =E18*8+J18*4+F18*15+K18*7.5+G18*20+L18*10 -> 668
A19: 8 | B19: Đại Đồng | C19: =O19*10/3 -> 1868 | D19: =((E19*30)+(F19*60)+(G19*200)+(H19*400)+(I19*600))*70%+((J19*30)+(K19*60)+(L19*200)*(M19*400)+(N19*600))*50% -> 1569.12 | F19: 37.36 | O19: =E19*8+J19*4+F19*15+K19*7.5+G19*20+L19*10 -> 560.4
A20: 9 | B20: Trung Sơn | C20: =O20*10/3 -> 2981.8 | D20: =((E20*30)+(F20*60)+(G20*200)+(H20*400)+(I20*600))*70%+((J20*30)+(K20*60)+(L20*200)*(M20*400)+(N20*600))*50% -> 2567.28 | E20: 70.63 | F20: 12.4 | J20: 10.75 | K20: 13.4 | O20: =E20*8+J20*4+F20*15+K20*7.5+G20*20+L20*10 -> 894.54
A21: 10 | B21: Đất Đỏ | C21: =O21*10/3 -> 1648.5333 | D21: =((E21*30)+(F21*60)+(G21*200)+(H21*400)+(I21*600))*70%+((J21*30)+(K21*60)+(L21*200)*(M21*400)+(N21*600))*50% -> 1478.67 | E21: 32.07 | F21: 8.1 | J21: 1 | K21: 15 | O21: =E21*8+J21*4+F21*15+K21*7.5+G21*20+L21*10 -> 494.56
A22: 11 | B22: Nam Sơn | C22: =O22*10/3 -> 16440.833 | D22: =((E22*30)+(F22*60)+(G22*200)+(H22*400)+(I22*600))*70%+((J22*30)+(K22*60)+(L22*200)*(M22*400)+(N22*600))*50% -> 13462.05 | E22: 248.75 | F22: 196.15 | J22: 0 | K22: 0 | O22: =E22*8+J22*4+F22*15+K22*7.5+G22*20+L22*10 -> 4932.25
A23: 12 | B23: Bắc Sơn | C23: =O23*10/3 -> 4509.6667 | D23: =((E23*30)+(F23*60)+(G23*200)+(H23*400)+(I23*600))*70%+((J23*30)+(K23*60)+(L23*200)*(M23*400)+(N23*600))*50% -> 3681.3 | E23: 76.3 | F23: 49.5 | J23: 0 | K23: 0 | O23: =E23*8+J23*4+F23*15+K23*7.5+G23*20+L23*10 -> 1352.9
A24: 13 | B24: Hồng Xuân | C24: =O24*10/3 -> 3359.4833 | D24: =((E24*30)+(F24*60)+(G24*200)+(H24*400)+(I24*600))*70%+((J24*30)+(K24*60)+(L24*200)*(M24*400)+(N24*600))*50% -> 2982.39 | E24: 60.89 | F24: 19.1 | J24: 35.4 | K24: 12.35 | O24: =E24*8+J24*4+F24*15+K24*7.5+G24*20+L24*10 -> 1007.845
A25: 14 | B25: Minh Xuân | C25: =O25*10/3 -> 6488.4667 | D25: =((E25*30)+(F25*60)+(G25*200)+(H25*400)+(I25*600))*70%+((J25*30)+(K25*60)+(L25*200)*(M25*400)+(N25*600))*50% -> 5403.93 | E25: 33.13 | F25: 112.1 | O25: =E25*8+J25*4+F25*15+K25*7.5+G25*20+L25*10 -> 1946.54
A26: 15 | B26: Trường Xuân | C26: =O26*10/3 -> 8382.2333 | D26: =((E26*30)+(F26*60)+(G26*200)+(H26*400)+(I26*600))*70%+((J26*30)+(K26*60)+(L26*200)*(M26*400)+(N26*600))*50% -> 7489.89 | E26: 138.09 | F26: 55 | J26: 59.8 | K26: 46.1 | O26: =E26*8+J26*4+F26*15+K26*7.5+G26*20+L26*10 -> 2514.67
A27: 16 | B27: Tây Xuân | C27: =O27*10/3 -> 12995.833 | D27: =((E27*30)+(F27*60)+(G27*200)+(H27*400)+(I27*600))*70%+((J27*30)+(K27*60)+(L27*200)*(M27*400)+(N27*600))*50% -> 10726.2 | E27: 172.5 | F27: 164.85 | J27: 4 | K27: 4 | O27: =E27*8+J27*4+F27*15+K27*7.5+G27*20+L27*10 -> 3898.75
A28: 17 | B28: Đông Xuân | C28: =O28*10/3 -> 15677.667 | D28: =((E28*30)+(F28*60)+(G28*200)+(H28*400)+(I28*600))*70%+((J28*30)+(K28*60)+(L28*200)*(M28*400)+(N28*600))*50% -> 13016.85 | E28: 108.85 | F28: 255.5 | J28: 0 | K28: 0 | O28: =E28*8+J28*4+F28*15+K28*7.5+G28*20+L28*10 -> 4703.3
A29: 18 | B29: Nam Xuân | C29: =O29*10/3 -> 15056.333 | D29: =((E29*30)+(F29*60)+(G29*200)+(H29*400)+(I29*600))*70%+((J29*30)+(K29*60)+(L29*200)*(M29*400)+(N29*600))*50% -> 12887.4 | E29: 250.8 | F29: 134.3 | J29: 4 | K29: 64 | O29: =E29*8+J29*4+F29*15+K29*7.5+G29*20+L29*10 -> 4516.9
A30: 19 | B30: Bắc Xuân | C30: =O30*10/3 -> 6610.8333 | D30: =((E30*30)+(F30*60)+(G30*200)+(H30*400)+(I30*600))*70%+((J30*30)+(K30*60)+(L30*200)*(M30*400)+(N30*600))*50% -> 6362.4 | E30: 80 | F30: 37.2 | J30: 21 | K30: 93.5 | O30: =E30*8+J30*4+F30*15+K30*7.5+G30*20+L30*10 -> 1983.25
A31: 20 | B31: Trung Xuân | C31: =O31*10/3 -> 8534.4667 | D31: =((E31*30)+(F31*60)+(G31*200)+(H31*400)+(I31*600))*70%+((J31*30)+(K31*60)+(L31*200)*(M31*400)+(N31*600))*50% -> 7334.7 | E31: 158.18 | F31: 63.76 | J31: 19 | K31: 35 | O31: =E31*8+J31*4+F31*15+K31*7.5+G31*20+L31*10 -> 2560.34
B32: TỔNG SỐ | C32: =SUM(C12:C31) -> 115631.17 | D32: =SUM(D12:D31) -> 98576.769 | E32: =SUM(E12:E31) -> 1718.685 | F32: =SUM(F12:F31) -> 1172.03 | G32: =SUM(G12:G31) -> 0 | H32: =SUM(H12:H31) -> 0 | I32: =SUM(I12:I31) -> 0 | J32: =SUM(J12:J31) -> 178.5556 | ... O32: =SUM(O12:O31) -> 34689.35 | Q32: =O32/D32 -> 0.35190188
C33: =O32/C32 -> 0.3 | E33: =E32+F32 -> 2890.715
E34: =J32+K32 -> 531.2486 | K34: Kỳ Văn, ngày tháng 9 năm 2025
E35: =G32 -> 0 | K35: TM. ỦY BAN NHÂN DÂN
E36: =SUM(E33:E35) -> 3421.9636 | K36: KT. CHỦ TỊCH
K37: PHÓ CHỦ TỊCH
K42: Phan Công Toàn

Sheet m2 đc
A1: Mẫu số 02
A2: UBND XÃ KỲ VĂN
A4: Phụ lục 02: TỔNG HỢP ĐỀ XUẤT HỖ TRỢ ĐỐI VỚI LÂM NGHIỆP BỊ THIỆT HẠI DO BÃO SỐ 10
A5: ='MAU 01'!A5:X5 -> 0
A6: ='MAU 01'!A6:Y6 -> (Kèm theo Báo cáo số 245 /UBND-KT ngày 21 /9/2026 của UBND xã Kỳ Văn)
A7: TT | B7: Thôn | C7: Tổng giá trị thiệt hại | D7: Tổng giá trị thiệt hại | E7: Thiệt hại trên 70% | N7: Thiệt hại từ 30% đến 70% | S7: Kinh phí đề xuất hỗ trợ | T7: Ghi chú
E8: Diện tích cây rừng, cây lâm sản ngoài gỗ trồng trên đất lâm nghiệp mới trồng đến 1/2 chu kỳ khai thác | F8: Diện tích cây rừng, cây lâm sản ngoài gỗ trồng trên đất lâm nghiệp trên 1/2 chu kỳ khai thác, diện tích rừng trồng gỗ lớn trên 03 năm tuổi | G8: Diện tích vườn giống, rừng giống | L8: Diện tích cây giống được ươm trong giai đoạn vườn ươm | N8: Diện tích cây rừng, cây lâm sản ngoài gỗ trồng trên đất lâm nghiệp mới trồng đến 1/2 chu kỳ khai thác | O8: Diện tích cây rừng, cây lâm sản ngoài gỗ trồng trên đất lâm nghiệp trên 1/2 chu kỳ khai thác, diện tích rừng trồng gỗ lớn trên 03 năm tuổi | P8: Diện tích vườn giống, rừng giống | Q8: Diện tích cây giống được ươm trong giai đoạn vườn ươm
L9: Nhóm cây sinh trưởng nhanh, có thời gian gieo ươm dưới 12 tháng tuổi | M9: Nhóm cây sinh trưởng chậm, có thời gian gieo ươm dưới 12 tháng tuổi | Q9: Nhóm cây sinh trưởng nhanh, có thời gian gieo ươm dưới 12 tháng tuổi | R9: Nhóm cây sinh trưởng chậm, có thời gian gieo ươm dưới 12 tháng tuổi
D10: tr.đồng | E10: (ha) | F10: (ha) | G10: (ha) | L10: (ha) | M10: (ha) | N10: (ha) | O10: (ha) | P10: (ha) | Q10: (ha) | R10: (ha) | S10: tr.đồng
A11: A | B11: 1 | C11: 2 | D11: 2 | E11: 3 | F11: 4 | G11: 5 | L11: 6 | M11: 7 | N11: 8 | O11: 9 | P11: 10 | Q11: 11 | R11: 12 | S11: 13 | T11: 14
A12: 1 | B12: Thanh Sơn | C12: =S12*10/3 -> 32 | D12: =((E12*30)+(F12*60)+(G12*200)+(L12*400)+(M12*600))*70%+((N12*30)+(O12*60)+(P12*200)*(Q12*400)+(R12*600))*50% -> 25.2 | E12: 1.2 | I12: =E12-H12 -> 1.2 | J12: 1.2 | S12: =E12*8+N12*4+F12*15+O12*7.5+G12*20+P12*10 -> 9.6
A13: 2 | B13: Sa Xá | C13: =S13*10/3 -> 319.5 | D13: =((E13*30)+(F13*60)+(G13*200)+(L13*400)+(M13*600))*70%+((N13*30)+(O13*60)+(P13*200)*(Q13*400)+(R13*600))*50% -> 270.45 | E13: 0.45 | F13: 6 | G13: 0 | H13: 0.22 | I13: =E13-H13 -> 0.23 | J13: 1.26 | K13: =F13-J13 -> 4.74 | L13: 0 | M13: 0 | N13: 0 | O13: 0.3 | P13: 0 | Q13: 0 | R13: 0 | S13: =E13*8+N13*4+F13*15+O13*7.5+G13*20+P13*10 -> 95.85
A14: 3 | B14: Hòa Hợp | C14: =S14*10/3 -> 4674.7917 | D14: =((E14*30)+(F14*60)+(G14*200)+(L14*400)+(M14*600))*70%+((N14*30)+(O14*60)+(P14*200)*(Q14*400)+(R14*600))*50% -> 4011.315 | E14: 13.2 | F14: 80.6575 | G14: 0 | H14: 72.81 | I14: =E14-H14 -> -59.61 | K14: =F14-J14 -> 80.6575 | L14: 0 | M14: 0 | N14: =1+0.4 -> 1.4 | O14: 10.85 | P14: 0 | R14: 0 | S14: =E14*8+N14*4+F14*15+O14*7.5+G14*20+P14*10 -> 1402.4375
A15: 4 | B15: Nam Mỹ Lợi | C15: =S15*10/3 -> 9023.783 | D15: =((E15*30)+(F15*60)+(G15*200)+(L15*400)+(M15*600))*70%+((N15*30)+(O15*60)+(P15*200)*(Q15*400)+(R15*600))*50% -> 7952.334 | E15: 40.9 | F15: 134.025 | G15: 0 | H15: 86.76 | I15: =E15-H15 -> -45.86 | J15: 0.15 | K15: =F15-J15 -> 133.875 | L15: 0 | M15: 0 | N15: 13.8556 | O15: 41.885 | S15: =E15*8+N15*4+F15*15+O15*7.5+G15*20+P15*10 -> 2707.1349
A16: 5 | B16: Mỹ Liên | C16: =S16*10/3 -> 8050 | D16: =((E16*30)+(F16*60)+(G16*200)+(L16*400)+(M16*600))*70%+((N16*30)+(O16*60)+(P16*200)*(Q16*400)+(R16*600))*50% -> 6762 | F16: 161 | H16: 62.35 | I16: =E16-H16 -> -62.35 | K16: =F16-J16 -> 161 | S16: =E16*8+N16*4+F16*15+O16*7.5+G16*20+P16*10 -> 2415
A17: 6 | B17: Liên Sơn | C17: =S17*10/3 -> 11036.976 | D17: =((E17*30)+(F17*60)+(G17*200)+(L17*400)+(M17*600))*70%+((N17*30)+(O17*60)+(P17*200)*(Q17*400)+(R17*600))*50% -> 9339.866 | E17: 9.9740964 | F17: 210.73 | G17: 0 | H17: 7.4 | I17: =E17-H17 -> 2.5740964 | J17: 16.7 | K17: =F17-J17 -> 194.03 | L17: 0 | M17: 0 | N17: 1.65 | O17: 8.5 | P17: 0 | Q17: 0 | R17: 0 | S17: =E17*8+N17*4+F17*15+O17*7.5+G17*20+P17*10 -> 3311.0928
A18: 7 | B18: Văn Lạc | C18: =S18*10/3 -> 6910.8 | D18: =((E18*30)+(F18*60)+(G18*200)+(L18*400)+(M18*600))*70%+((N18*30)+(O18*60)+(P18*200)*(Q18*400)+(R18*600))*50% -> 5813.85 | E18: 62.11 | F18: 99.4 | H18: 58.955 | I18: =E18-H18 -> 3.155 | J18: 7.4 | K18: =F18-J18 -> 92 | L18: 0 | M18: 0 | N18: 6.7 | O18: 7.808 | Q18: 0 | R18: 0 | S18: =E18*8+N18*4+F18*15+O18*7.5+G18*20+P18*10 -> 2073.24
A19: 8 | B19: Đại Đồng | C19: =S19*10/3 -> 970.87667 | D19: =((E19*30)+(F19*60)+(G19*200)+(L19*400)+(M19*600))*70%+((N19*30)+(O19*60)+(P19*200)*(Q19*400)+(R19*600))*50% -> 806.631 | E19: 6.361 | F19: 16.025 | I19: =E19-H19 -> 6.361 | J19: 37.36 | K19: =F19-J19 -> -21.335 | S19: =E19*8+N19*4+F19*15+O19*7.5+G19*20+P19*10 -> 291.263
A20: 9 | B20: Trung Sơn | C20: =S20*10/3 -> 16084.533 | D20: =((E20*30)+(F20*60)+(G20*200)+(L20*400)+(M20*600))*70%+((N20*30)+(O20*60)+(P20*200)*(Q20*400)+(R20*600))*50% -> 13597.908 | E20: =47.5+5.75 -> 53.25 | F20: 283.724 | G20: 0 | H20: 70.63 | I20: =E20-H20 -> -17.38 | J20: 12.4 | K20: =F20-J20 -> 271.324 | M20: 0 | N20: 10.75 | O20: 13.4 | P20: 0 | Q20: 0 | R20: 0 | S20: =E20*8+N20*4+F20*15+O20*7.5+G20*20+P20*10 -> 4825.36
A21: 10 | B21: Đất Đỏ | C21: =S21*10/3 -> 6886.1667 | D21: =((E21*30)+(F21*60)+(G21*200)+(L21*400)+(M21*600))*70%+((N21*30)+(O21*60)+(P21*200)*(Q21*400)+(R21*600))*50% -> 5877.75 | E21: =29.45+3 -> 32.45 | F21: 112.65 | G21: 0 | H21: 32.07 | I21: =E21-H21 -> 0.38 | J21: 8.1 | K21: =F21-J21 -> 104.55 | M21: 0 | N21: 1 | O21: 15 | P21: 0 | Q21: 0 | R21: 0 | S21: =E21*8+N21*4+F21*15+O21*7.5+G21*20+P21*10 -> 2065.85
A22: 11 | B22: Nam Sơn | C22: =S22*10/3 -> 16440.833 | D22: =((E22*30)+(F22*60)+(G22*200)+(L22*400)+(M22*600))*70%+((N22*30)+(O22*60)+(P22*200)*(Q22*400)+(R22*600))*50% -> 13462.05 | E22: 248.75 | F22: 196.15 | G22: 0 | I22: =E22-H22 -> 248.75 | K22: =F22-J22 -> 196.15 | L22: 0 | M22: 0 | N22: 0 | O22: 0 | P22: 0 | Q22: 0 | R22: 0 | S22: =E22*8+N22*4+F22*15+O22*7.5+G22*20+P22*10 -> 4932.25
A23: 12 | B23: Bắc Sơn | C23: =S23*10/3 -> 9096.3333 | D23: =((E23*30)+(F23*60)+(G23*200)+(L23*400)+(M23*600))*70%+((N23*30)+(O23*60)+(P23*200)*(Q23*400)+(R23*600))*50% -> 7532.7 | E23: 77.3 | F23: 140.7 | G23: 0 | H23: 76.3 | I23: =E23-H23 -> 1 | J23: 49.5 | K23: =F23-J23 -> 91.2 | L23: 0 | M23: 0 | N23: 0 | O23: 0 | P23: 0 | Q23: 0 | R23: 0 | S23: =E23*8+N23*4+F23*15+O23*7.5+G23*20+P23*10 -> 2728.9
A24: 13 | B24: Hồng Xuân | C24: =S24*10/3 -> 13970.083 | D24: =((E24*30)+(F24*60)+(G24*200)+(L24*400)+(M24*600))*70%+((N24*30)+(O24*60)+(P24*200)*(Q24*400)+(R24*600))*50% -> 11803.65 | E24: =116.35+9+1 -> 126.35 | F24: 196.4 | H24: 60.89 | I24: =E24-H24 -> 65.46 | J24: 19.1 | K24: =F24-J24 -> 177.3 | N24: =24+7.1+4.3 -> 35.4 | O24: 12.35 | R24: 0 | S24: =E24*8+N24*4+F24*15+O24*7.5+G24*20+P24*10 -> 4191.025
A25: 14 | B25: Minh Xuân | C25: =S25*10/3 -> 8905.1667 | D25: =((E25*30)+(F25*60)+(G25*200)+(L25*400)+(M25*600))*70%+((N25*30)+(O25*60)+(P25*200)*(Q25*400)+(R25*600))*50% -> 7330.05 | E25: 107.35 | F25: 120.85 | H25: 33.13 | I25: =E25-H25 -> 74.22 | J25: 112.1 | K25: =F25-J25 -> 8.75 | S25: =E25*8+N25*4+F25*15+O25*7.5+G25*20+P25*10 -> 2671.55
A26: 15 | B26: Trường Xuân | C26: =S26*10/3 -> 14197.5 | D26: =((E26*30)+(F26*60)+(G26*200)+(L26*400)+(M26*600))*70%+((N26*30)+(O26*60)+(P26*200)*(Q26*400)+(R26*600))*50% -> 12291.75 | E26: =193.85+3.5 -> 197.35 | F26: 139.7 | G26: 0 | H26: 138.09 | I26: =E26-H26 -> 59.26 | J26: 55 | K26: =F26-J26 -> 84.7 | M26: 0 | N26: =42.8+17 -> 59.8 | O26: 46.1 | P26: 0 | R26: 0 | S26: =E26*8+N26*4+F26*15+O26*7.5+G26*20+P26*10 -> 4259.25
A27: 16 | B27: Tây Xuân | C27: =S27*10/3 -> 30938.5 | D27: =((E27*30)+(F27*60)+(G27*200)+(L27*400)+(M27*600))*70%+((N27*30)+(O27*60)+(P27*200)*(Q27*400)+(R27*600))*50% -> 25865.1 | E27: 133.6 | F27: 544.25 | G27: 0.15 | H27: 172.5 | I27: =E27-H27 -> -38.9 | J27: 164.85 | K27: =F27-J27 -> 379.4 | L27: 0 | M27: 0 | N27: 4 | O27: 4 | P27: 0 | Q27: 0 | R27: 0 | S27: =E27*8+N27*4+F27*15+O27*7.5+G27*20+P27*10 -> 9281.55
A28: 17 | B28: Đông Xuân | C28: =S28*10/3 -> 25313.167 | D28: =((E28*30)+(F28*60)+(G28*200)+(L28*400)+(M28*600))*70%+((N28*30)+(O28*60)+(P28*200)*(Q28*400)+(R28*600))*50% -> 21059.85 | E28: 145.15 | F28: 428.85 | G28: 0 | H28: 108.85 | I28: =E28-H28 -> 36.3 | J28: 255.5 | K28: =F28-J28 -> 173.35 | L28: 0 | M28: 0 | N28: 0 | O28: 0 | P28: 0 | Q28: 0 | R28: 0 | S28: =E28*8+N28*4+F28*15+O28*7.5+G28*20+P28*10 -> 7593.95
A29: 18 | B29: Nam Xuân | C29: =S29*10/3 -> 34834.333 | D29: =((E29*30)+(F29*60)+(G29*200)+(L29*400)+(M29*600))*70%+((N29*30)+(O29*60)+(P29*200)*(Q29*400)+(R29*600))*50% -> 29454.3 | E29: 284.1 | F29: 512.1 | H29: 250.8 | I29: =E29-H29 -> 33.3 | J29: 134.3 | K29: =F29-J29 -> 377.8 | L29: 0 | M29: 0 | N29: 4 | O29: 64 | P29: 0 | Q29: 0 | R29: 0 | S29: =E29*8+N29*4+F29*15+O29*7.5+G29*20+P29*10 -> 10450.3
A30: 19 | B30: Bắc Xuân | C30: =S30*10/3 -> 13860 | D30: =((E30*30)+(F30*60)+(G30*200)+(L30*400)+(M30*600))*70%+((N30*30)+(O30*60)+(P30*200)*(Q30*400)+(R30*600))*50% -> 12391.5 | E30: 123 | F30: 159.25 | G30: 0 | H30: 80 | I30: =E30-H30 -> 43 | J30: 37.2 | K30: =F30-J30 -> 122.05 | L30: 0 | M30: 0 | N30: 21 | O30: 93.5 | P30: 0 | Q30: 0 | R30: 0 | S30: =E30*8+N30*4+F30*15+O30*7.5+G30*20+P30*10 -> 4158
A31: 20 | B31: Trung Xuân | C31: =S31*10/3 -> 12974.333 | D31: =((E31*30)+(F31*60)+(G31*200)+(L31*400)+(M31*600))*70%+((N31*30)+(O31*60)+(P31*200)*(Q31*400)+(R31*600))*50% -> 11165.1 | E31: 86.1 | F31: 191 | G31: 0 | H31: 158.18 | I31: =E31-H31 -> -72.08 | J31: 63.76 | K31: =F31-J31 -> 127.24 | L31: 0 | M31: 0 | N31: 19 | O31: 35 | P31: 0 | Q31: 0 | R31: 0 | S31: =E31*8+N31*4+F31*15+O31*7.5+G31*20+P31*10 -> 3892.3
B32: TỔNG SỐ | C32: =SUM(C12:C31) -> 244519.68 | D32: =SUM(D12:D31) -> 206813.35 | E32: =SUM(E12:E31) -> 1748.9451 | F32: =SUM(F12:F31) -> 3733.4615 | G32: =SUM(G12:G31) -> 0.15 | H32: =SUM(H12:H31) -> 1469.935 | I32: =SUM(I12:I31) -> 279.0101 | J32: =SUM(J12:J31) -> 975.88 | ... S32: =SUM(S12:S31) -> 73355.903 | U32: =S32/D32 -> 0.35469616
C33: =S32/C32 -> 0.3 | E33: =E32+F32+G32 -> 5482.5566
E34: =N32+O32 -> 531.2486 | O34: Kỳ Văn, ngày tháng 9 năm 2025
E35: =G32 -> 0.15 | O35: TM. ỦY BAN NHÂN DÂN
E36: =SUM(E33:E35) -> 6013.9552 | L36: =E35 -> 0.15 | O36: KT. CHỦ TỊCH
E37: 880.015 | F37: 1209.4683 | G37: =SUM(E37:F37) -> 2089.4833 | L37: =E33+G37 -> 7572.0399 | O37: PHÓ CHỦ TỊCH
E38: 1469.935 | F38: 975.88 | G38: =SUM(E38:F38) -> 2445.815 | L38: =E34 -> 531.2486
E39: =E36+G39 -> 10549.254 | G39: =SUM(G37:G38) -> 4535.2983 | L39: =SUM(L36:L38) -> 8103.4385
O42: Phan Công Toàn
